BEGIN:VCALENDAR
VERSION:2.0
PRODID:-//Tukios.com/
BEGIN:VEVENT
UID:a4672e00-ba0a-45df-a118-4a70fabb86ec@www.phillipsfh.com
DTSTAMP:20260420T013950Z
DTSTART:20260421T220000Z
DTEND:20260422T000000Z
SUMMARY:Visitation
DESCRIPTION:
URL:https://www.phillipsfh.com/obituaries/frances-mabe
LOCATION:Phillips Funeral Home 216 S. Main St  Star NC 27356
GEO:35.3981086;-79.7837464
END:VEVENT
END:VCALENDAR