BEGIN:VCALENDAR
VERSION:2.0
PRODID:-//Tukios.com/
BEGIN:VEVENT
UID:a6b184bc-42b7-48da-8b70-f42a4bd3bd09@www.phillipsfh.com
DTSTAMP:20260420T013658Z
DTSTART:20260422T150000Z
DTEND:20260422T160000Z
SUMMARY:Funeral Service
DESCRIPTION:
URL:https://www.phillipsfh.com/obituaries/frances-mabe
LOCATION:Dover Baptist Church 2527 Dover Church Rd  Seagrove NC 27341
GEO:35.4375266;-79.7336999
END:VEVENT
END:VCALENDAR