BEGIN:VCALENDAR
VERSION:2.0
PRODID:-//Tukios.com/
BEGIN:VEVENT
UID:26af84eb-bf8c-4246-a433-ab86c5535747@www.phillipsfh.com
DTSTAMP:20260420T013657Z
DTSTART:20260422
SUMMARY:Burial
DESCRIPTION:
URL:https://www.phillipsfh.com/obituaries/frances-mabe
LOCATION: 2527 Dover Church Rd  Seagrove NC 27341
GEO:35.4375266;-79.7336999
END:VEVENT
END:VCALENDAR